BEGIN:VCALENDAR
VERSION:2.0
PRODID:-//Fotoclub Regenstauf e.V. - ECPv6.15.20//NONSGML v1.0//EN
CALSCALE:GREGORIAN
METHOD:PUBLISH
X-WR-CALNAME:Fotoclub Regenstauf e.V.
X-ORIGINAL-URL:https://www.fotoclub-regenstauf.de
X-WR-CALDESC:Veranstaltungen für Fotoclub Regenstauf e.V.
REFRESH-INTERVAL;VALUE=DURATION:PT1H
X-Robots-Tag:noindex
X-PUBLISHED-TTL:PT1H
BEGIN:VTIMEZONE
TZID:Europe/Berlin
BEGIN:DAYLIGHT
TZOFFSETFROM:+0100
TZOFFSETTO:+0200
TZNAME:CEST
DTSTART:20230326T010000
END:DAYLIGHT
BEGIN:STANDARD
TZOFFSETFROM:+0200
TZOFFSETTO:+0100
TZNAME:CET
DTSTART:20231029T010000
END:STANDARD
BEGIN:DAYLIGHT
TZOFFSETFROM:+0100
TZOFFSETTO:+0200
TZNAME:CEST
DTSTART:20240331T010000
END:DAYLIGHT
BEGIN:STANDARD
TZOFFSETFROM:+0200
TZOFFSETTO:+0100
TZNAME:CET
DTSTART:20241027T010000
END:STANDARD
BEGIN:DAYLIGHT
TZOFFSETFROM:+0100
TZOFFSETTO:+0200
TZNAME:CEST
DTSTART:20250330T010000
END:DAYLIGHT
BEGIN:STANDARD
TZOFFSETFROM:+0200
TZOFFSETTO:+0100
TZNAME:CET
DTSTART:20251026T010000
END:STANDARD
END:VTIMEZONE
BEGIN:VEVENT
DTSTART;TZID=Europe/Berlin:20240404T130000
DTEND;TZID=Europe/Berlin:20240404T170000
DTSTAMP:20260424T040948
CREATED:20240129T150826Z
LAST-MODIFIED:20240219T152659Z
UID:3792-1712235600-1712250000@www.fotoclub-regenstauf.de
SUMMARY:Kinderfotokurs mit Jana
DESCRIPTION:Kinderfotokurs mit Jana im Rahmen des Ferienprogramms des Marktes Regenstauf Tag 2
URL:https://www.fotoclub-regenstauf.de/veranstaltung/fotokurs-mit-jana/
END:VEVENT
BEGIN:VEVENT
DTSTART;TZID=Europe/Berlin:20240404T190000
DTEND;TZID=Europe/Berlin:20240404T220000
DTSTAMP:20260424T040948
CREATED:20240104T161919Z
LAST-MODIFIED:20240104T161919Z
UID:3668-1712257200-1712268000@www.fotoclub-regenstauf.de
SUMMARY:Stammtisch April
DESCRIPTION:Monatlicher Stammtisch
URL:https://www.fotoclub-regenstauf.de/veranstaltung/stammtisch-april-2/
LOCATION:Gaststätte Jahnhalle\, Jahnstraße 6\, Regenstauf\, Bayern\, 93128\, Deutschland
END:VEVENT
BEGIN:VEVENT
DTSTART;TZID=Europe/Berlin:20240417T173000
DTEND;TZID=Europe/Berlin:20240417T193000
DTSTAMP:20260424T040948
CREATED:20240415T060208Z
LAST-MODIFIED:20240415T060208Z
UID:4187-1713375000-1713382200@www.fotoclub-regenstauf.de
SUMMARY:Aufbau der FCR Ausstellung
DESCRIPTION:📸 Aufbau für die FCR-Ausstellung\n————————————————\n🗓 Mittwoch\, 17.04.24\n⏰ ab 17:30 Uhr\n🔴 Mehrgenerationenhaus Rgstf.\, Hauptstr. 34\, oberer Eingang von der Bergstr.\n👨‍👩‍👧‍👦 Für alle Mitglieder des FCR die mithelfen können\n🚗 Parkplätze begrenzt\, evtl. unten an der Hauptstr. parken\n📞 Mehr Infos bei Christian Greller
URL:https://www.fotoclub-regenstauf.de/veranstaltung/aufbau-der-fcr-ausstellung/
LOCATION:Mehrgenerationenhaus Regenstauf\, Hauptstraße 34\, Regenstauf\, 93128\, Deutschland
END:VEVENT
BEGIN:VEVENT
DTSTART;TZID=Europe/Berlin:20240419T190000
DTEND;TZID=Europe/Berlin:20240419T230000
DTSTAMP:20260424T040948
CREATED:20240129T145801Z
LAST-MODIFIED:20240415T060520Z
UID:3779-1713553200-1713567600@www.fotoclub-regenstauf.de
SUMMARY:Vernissage des Fotoclub Regenstauf im Mehrgenerationenhaus Regenstauf
DESCRIPTION:📸 Eröffnung FCR-Jahresausstellung 24\n————————————————\n🗓 Freitag\, 19.04.24\n⏰ 19:00 Uhr\n🔴 Mehrgenerationenhaus Rgstf.\, Hauptstr. 34\n👨‍👩‍👧‍👦 Für alle! Macht bitte kräftig Werbung!\n🚗 Parkplätze begrenzt!\n📞 Mehr Infos bei Christian Greller
URL:https://www.fotoclub-regenstauf.de/veranstaltung/vernissage-des-fotoclub-regenstauf-im-mehrgenerationenhaus-regenstauf/
LOCATION:Mehrgenerationenhaus Regenstauf\, Hauptstraße 34\, Regenstauf\, 93128\, Deutschland
END:VEVENT
END:VCALENDAR