BEGIN:VCALENDAR
VERSION:2.0
PRODID:-//Fotoclub Regenstauf e.V. - ECPv6.15.20//NONSGML v1.0//EN
CALSCALE:GREGORIAN
METHOD:PUBLISH
X-WR-CALNAME:Fotoclub Regenstauf e.V.
X-ORIGINAL-URL:https://www.fotoclub-regenstauf.de
X-WR-CALDESC:Veranstaltungen für Fotoclub Regenstauf e.V.
REFRESH-INTERVAL;VALUE=DURATION:PT1H
X-Robots-Tag:noindex
X-PUBLISHED-TTL:PT1H
BEGIN:VTIMEZONE
TZID:Europe/Berlin
BEGIN:DAYLIGHT
TZOFFSETFROM:+0100
TZOFFSETTO:+0200
TZNAME:CEST
DTSTART:20230326T010000
END:DAYLIGHT
BEGIN:STANDARD
TZOFFSETFROM:+0200
TZOFFSETTO:+0100
TZNAME:CET
DTSTART:20231029T010000
END:STANDARD
BEGIN:DAYLIGHT
TZOFFSETFROM:+0100
TZOFFSETTO:+0200
TZNAME:CEST
DTSTART:20240331T010000
END:DAYLIGHT
BEGIN:STANDARD
TZOFFSETFROM:+0200
TZOFFSETTO:+0100
TZNAME:CET
DTSTART:20241027T010000
END:STANDARD
BEGIN:DAYLIGHT
TZOFFSETFROM:+0100
TZOFFSETTO:+0200
TZNAME:CEST
DTSTART:20250330T010000
END:DAYLIGHT
BEGIN:STANDARD
TZOFFSETFROM:+0200
TZOFFSETTO:+0100
TZNAME:CET
DTSTART:20251026T010000
END:STANDARD
END:VTIMEZONE
BEGIN:VEVENT
DTSTART;TZID=Europe/Berlin:20240502T190000
DTEND;TZID=Europe/Berlin:20240502T220000
DTSTAMP:20260424T024828
CREATED:20240104T161959Z
LAST-MODIFIED:20240104T161959Z
UID:3670-1714676400-1714687200@www.fotoclub-regenstauf.de
SUMMARY:Stammtisch Mai
DESCRIPTION:Monatlicher Stammtisch
URL:https://www.fotoclub-regenstauf.de/veranstaltung/stammtisch-mai-2/
LOCATION:Gaststätte Jahnhalle\, Jahnstraße 6\, Regenstauf\, Bayern\, 93128\, Deutschland
END:VEVENT
BEGIN:VEVENT
DTSTART;TZID=Europe/Berlin:20240504T130000
DTEND;TZID=Europe/Berlin:20240504T170000
DTSTAMP:20260424T024828
CREATED:20240430T122351Z
LAST-MODIFIED:20240430T122351Z
UID:4229-1714827600-1714842000@www.fotoclub-regenstauf.de
SUMMARY:Fotowalk Nepaltempel Wiesent
DESCRIPTION:📸 Fotowalk Nepaltempel Wiesent\n————————————————\n🗓 Samstag\, 04.05.24\n⏰ 13:00 Uhr\n🔴 Martiniplatte\, 93109 Wiesent (Parkplatz)\n👨‍👩‍👧‍👦 Für alle Mitglieder des FCR und Interessierte\n🚗 Anreise bitte selbst organisieren (z.B. Fahrgemeinschaften)\n📞 Mehr Infos bei Sandra Pautz
URL:https://www.fotoclub-regenstauf.de/veranstaltung/fotowalk-nepaltempel-wiesent/
LOCATION:Nepaltempel\, Martiniplatte\, Wiesent\, Bayern\, 93109\, Deutschland
END:VEVENT
BEGIN:VEVENT
DTSTART;TZID=Europe/Berlin:20240525T100000
DTEND;TZID=Europe/Berlin:20240525T170000
DTSTAMP:20260424T024828
CREATED:20240523T073422Z
LAST-MODIFIED:20240524T101428Z
UID:4371-1716631200-1716656400@www.fotoclub-regenstauf.de
SUMMARY:Fahrradtour Fotokalender 2025
DESCRIPTION:📸 Radtour Fotokalender 2025\n————————————————\n🗓 Samstag\, 25.05.24\n⏰ 10:00 Uhr\n🔴 Jahnhalle Regenstauf\n👨‍👩‍👧‍👦 Für alle Mitglieder des FCR\n📞 Mehr Infos bei Carmen und Martin Bäuml
URL:https://www.fotoclub-regenstauf.de/veranstaltung/fahrradtour-regen/
LOCATION:Gaststätte Jahnhalle\, Jahnstraße 6\, Regenstauf\, Bayern\, 93128\, Deutschland
END:VEVENT
BEGIN:VEVENT
DTSTART;TZID=Europe/Berlin:20240531T090000
DTEND;TZID=Europe/Berlin:20240531T233000
DTSTAMP:20260424T024828
CREATED:20240523T050531Z
LAST-MODIFIED:20240524T101351Z
UID:4364-1717146000-1717198200@www.fotoclub-regenstauf.de
SUMMARY:Fotowalk Osser
DESCRIPTION:📸 Fotowalk Osser\n🗓 Freitag\, 31.05.24\n⏰ 09:00 Uhr\n🔴 Wanderparkplatz Osser „Sattel“\n👨👩👧👦 Für alle Mitglieder des FCR und Interessierte.\nÜbernachtung ist nicht mehr möglich\,\nohne Übernachtung kann noch angemeldet werden\nZusatzinfo: Ein Teil der Mitglieder Reisen erst Mittags an.\n🚗 Anreise bitte selbst organisieren (z.B. Fahrgemeinschaften)\n📞 Mehr Infos und Anmeldung bei Birgit Gassner +49 162 1869013
URL:https://www.fotoclub-regenstauf.de/veranstaltung/fotowalk-osser/
LOCATION:Osser\, Lam\, Bayern\, 93462\, Deutschland
END:VEVENT
END:VCALENDAR