BEGIN:VCALENDAR
VERSION:2.0
PRODID:-//Fotoclub Regenstauf e.V. - ECPv6.15.20//NONSGML v1.0//EN
CALSCALE:GREGORIAN
METHOD:PUBLISH
X-ORIGINAL-URL:https://www.fotoclub-regenstauf.de
X-WR-CALDESC:Veranstaltungen für Fotoclub Regenstauf e.V.
REFRESH-INTERVAL;VALUE=DURATION:PT1H
X-Robots-Tag:noindex
X-PUBLISHED-TTL:PT1H
BEGIN:VTIMEZONE
TZID:Europe/Berlin
BEGIN:DAYLIGHT
TZOFFSETFROM:+0100
TZOFFSETTO:+0200
TZNAME:CEST
DTSTART:20230326T010000
END:DAYLIGHT
BEGIN:STANDARD
TZOFFSETFROM:+0200
TZOFFSETTO:+0100
TZNAME:CET
DTSTART:20231029T010000
END:STANDARD
BEGIN:DAYLIGHT
TZOFFSETFROM:+0100
TZOFFSETTO:+0200
TZNAME:CEST
DTSTART:20240331T010000
END:DAYLIGHT
BEGIN:STANDARD
TZOFFSETFROM:+0200
TZOFFSETTO:+0100
TZNAME:CET
DTSTART:20241027T010000
END:STANDARD
BEGIN:DAYLIGHT
TZOFFSETFROM:+0100
TZOFFSETTO:+0200
TZNAME:CEST
DTSTART:20250330T010000
END:DAYLIGHT
BEGIN:STANDARD
TZOFFSETFROM:+0200
TZOFFSETTO:+0100
TZNAME:CET
DTSTART:20251026T010000
END:STANDARD
END:VTIMEZONE
BEGIN:VEVENT
DTSTART;VALUE=DATE:20241003
DTEND;VALUE=DATE:20241007
DTSTAMP:20260424T164709
CREATED:20240909T085124Z
LAST-MODIFIED:20240909T085124Z
UID:5007-1727913600-1728259199@www.fotoclub-regenstauf.de
SUMMARY:Jahresausflug in die Sächsische Schweiz
DESCRIPTION:Vom 03. bis 06. Oktober findet unser Jahresausflug in die Sächsische Schweiz statt.
URL:https://www.fotoclub-regenstauf.de/veranstaltung/jahresausflug-in-die-saechsische-schweiz/
END:VEVENT
BEGIN:VEVENT
DTSTART;TZID=Europe/Berlin:20241010T190000
DTEND;TZID=Europe/Berlin:20241010T190000
DTSTAMP:20260424T164709
CREATED:20240527T093409Z
LAST-MODIFIED:20240527T093409Z
UID:4515-1728586800-1728586800@www.fotoclub-regenstauf.de
SUMMARY:Stammtisch Oktober
DESCRIPTION:📸 MONATLICHER FOTOSTAMMTISCH\n————————————————\n🗓️ Donnerstag\, 10.10.2024\n⏰ 19:00 bis Open End\n🔴 Gaststätte Jahnhalle\, Regenstauf\n👨‍👩‍👧‍👦 Für alle Mitglieder des FCR und Interessierte\n📞 Mehr Infos unter 0151-29104728
URL:https://www.fotoclub-regenstauf.de/veranstaltung/stammtisch-oktober-3/
END:VEVENT
BEGIN:VEVENT
DTSTART;TZID=Europe/Berlin:20241012T150000
DTEND;TZID=Europe/Berlin:20241012T190000
DTSTAMP:20260424T164709
CREATED:20241008T122642Z
LAST-MODIFIED:20241008T122642Z
UID:5051-1728745200-1728759600@www.fotoclub-regenstauf.de
SUMMARY:Eröffnung & Preisverleihung Ostbayerische FM
DESCRIPTION:📸 Eröffnung & Preisverleihung Ostbayerische FM\n————————————————\n🗓️ Samstag\, 12.10.24\n⏰ 15:00\n🔴 Donau-Einkaufszentrum Regensburg\, 2. Flur (bei Müller)\n👨‍👩‍👧‍👦 Für alle\n📞 Mehr Infos unter 0151-29104728
URL:https://www.fotoclub-regenstauf.de/veranstaltung/eroeffnung-preisverleihung-ostbayerische-fm/
LOCATION:Donau-Einkaufszentrum Regensburg\, Weicher Weg 2\, Regensburg
END:VEVENT
END:VCALENDAR